BEGIN:VCALENDAR
VERSION:1.0
PRODID:Open2CKalenderExportV11
BEGIN:VEVENT
DTSTAMP:20260107T092922Z
DTSTART:20261114T000000Z
DTEND:20261114T000000Z
CATEGORIES:Vereine
SUMMARY:Königsschießen - Schützenverein Todtenweis
DESCRIPTION:
LOCATION:
UID:b7a7ee47ae4c9c8ad30d9a1b83a07c08-dd5751ee28cd2f343f9b78a9cfeebcca
PRIORITY:3
END:VEVENT
END:VCALENDAR
