BEGIN:VCALENDAR
VERSION:1.0
PRODID:Open2CKalenderExportV11
BEGIN:VEVENT
DTSTAMP:20260123T101710Z
DTSTART:20261111T163000Z
DTEND:20261111T163000Z
CATEGORIES:Vereine
SUMMARY:St. Martinsfest - Kinderhaus St. Martin
DESCRIPTION: | Organisator   Kinderhaus St. Martin | Kontakt   Kinderhaus St. Martin
LOCATION:Kinderhaus St. Martin + Kirche und Umzug
UID:ca127211e5d8250d4685bc02b4693909-7a9d045d958b91394d756f224927c1de
PRIORITY:3
END:VEVENT
END:VCALENDAR
