BEGIN:VCALENDAR
VERSION:1.0
PRODID:Open2CKalenderExportV11
BEGIN:VEVENT
DTSTAMP:20231220T103035Z
DTSTART:20240907T170000Z
DTEND:20240907T170000Z
CATEGORIES:Vereine
SUMMARY:Steckerlfisch - Stammtisch Axtbrunn
DESCRIPTION:
LOCATION:Schützenheim Axtbrunn
UID:47f376a968c2c38b443a5b557581f888-0016695d3a1305aa7c0f11709892b45a
PRIORITY:3
END:VEVENT
END:VCALENDAR
